Workbook
Name _Toc378252009: 'Solution Information'!$A$2
Name _Toc378252010: 'Solution Information'!$A$4
Name _Toc378252011: 'Solution Information'!$A$6
Name _Toc378252012: 'Solution Information'!$A$25
Name _Toc378252013: 'Solution Information'!$A$27
Name _Toc378252014: 'Solution Information'!$A$30
Name _Toc378252015: 'Solution Information'!$A$32
Name _Toc378252016: 'Solution Information'!$A$34
Name _Toc378252020: 'Org Security - Change Control'!#REF!
Name _Toc378252021: 'Org Security - Change Control'!#REF!
Name _Toc378252022: 'Org Security - Change Control'!#REF!
Name _Toc378252023: 'Org Security - Change Control'!#REF!
Name _Toc378252024: 'Org Security - Change Control'!#REF!
Name _Toc378252025: 'Org Security - Change Control'!#REF!
Name _Toc378252026: 'Org Security - Change Control'!#REF!
Name _Toc378252027: 'Org Security - Change Control'!#REF!
Name _Toc378252028: 'Org Security - Change Control'!#REF!
Name _Toc378252029: 'Org Security - Change Control'!#REF!
Name _Toc378252030: 'Org Security - Change Control'!#REF!

Sheet Instructions
A2: Vendor Name:
A4: Person Completing Questionnaire:
A6: Please complete all Checked Sections, supplying Comments where necessary. Please Note: The Solution Information Tab will always need to be completed.
A8: Solution Information
A9: All
A10: Organizational Security - Change Control
A11: Application Security
A12: System & Network Security
A13: Data Center
A14: Disaster Recovery, Business Continuity and Incident Management
A15: Privacy
A17: Based on the responses a vendor evaluation will be performed. All vendor evaluations are determined by CBRE and at CBRE's sole discretion. Completion of this form is required for consideration of the vendor process; however, by completing the form CBRE does not warranty or guarantee selection.
... A23: CBRE

Sheet Hist
A1: History | B1: Date | C1: Associate
A3: VSR Returned by Vendor
A5: CBRE VSR Review
A7: CBRE Peer Review
A9: CBRE Approval
A11: CBRE Additional Requests
A13: Vendor's Responses

Sheet Solution Information
A1: Please Explain All "No" and "NA" Responses in the Comments Section
A2: 1. Information Security Policy | C2: Vendor's Comments | D2: CBRE's Comments/Questions | E2: Vendor's Response to CBRE
B3: (please provide a description of Vendor’s information security policy, including but not limited to: approval and review requirements, framework and any third party reviews and certifications)
A4: 2. Application Name/ Services Provided | C4: Vendor's Comments | D4: CBRE's Comments/Questions | E4: Vendor's Response to CBRE
B5: [Insert application name(s) or describe Services provided, please also include whether or not Vendor is supplying CBRE with any other products or Services; as well as, if CBRE and Vendor have any signed copntracts between the two parties. As part of the description of applications and/or Services please describe: The levels of support available including hours of operation and response times; The methods to obtain support (web, phone, etc.); and, if any of the services are to be contracted out or outsourced. If outsourcing will be necessary, please describe in detail the outsourced portion of the Services.]
A6: 3. Technical Solution Description | C6: Vendor's Comments | D6: CBRE's Comments/Questions | E6: Vendor's Response to CBRE
B7: Provide the physical locations of IT support centers. This should include international locations and use of other company’s infrastructure, if any.
B8: Describe the levels of support available including hours of operation and response times.
B9: Describe the methods to obtain support (web, phone, etc.).
B10: Will any of the services be contracted out or outsourced?
B11: Is the applicable environment dedicated?
B12: If you are a SAAS ASP what is your SAAS maturity level?
B13: What server Operating systems are used?
B14: What network router/switching platforms are used?
B15: What database systems are used?
B16: What languages are used for coding?
B17: What are the approximate number and type of customers using this application or service?
B18: What server hardware platforms are used (IBM, HP, Compaq, etc…)?
... B24: Detail the steps taken to ensure that data/devices has been deleted/destroyed is completely wiped and cannot be accessed by other service users or overwritten using techniques to make the original information non-retrievable.
A25: 4. Scope and purpose of application or engagement | C25: Vendor's Comments | D25: CBRE's Comments/Questions | E25: Vendor's Response to CBRE
B26: [Insert the scope and purpose of the application or engagement. Please be descriptive and include the physical locations of IT support centers. This should include international locations and use of other company’s infrastructure, if any. ]
A27: 5. Inputs and Outputs | C27: Vendor's Comments | D27: CBRE's Comments/Questions | E27: Vendor's Response to CBRE
B28: Inputs: [Describe how data will come into the application. This could be through a data transfer, manual keyed entry, or manual imports. Also, describe any communications protocols that may be used. OR, describe in detail how the Services will be performed and whether or not any technology, servers, systems or networks will be utilized. If so, please describe in detail these uses of technology.]
B29: Outputs: [Describe how data leaves the application. This could be through backup tapes, offsite replication, reports, data transfers to other systems, printing, etc. Or, describe in detail the output or deliverable of the Services.]
A30: 6. Internal and External Users | C30: Vendor's Comments | D30: CBRE's Comments/Questions | E30: Vendor's Response to CBRE
B31: [Provide a summary of the types and quantity of users of this application. Internal: For instance: 100 Vendor employees with 15 supporting the Services; and, External: 100 CBRE employees, up to 500 CBRE customers.] Please include a description of how all users (and their associated privileges) who have access to the applicable network, operating system and database are managed, ie users and privileges reviewed on a quarterly basis.
A32: 7. Data Classification | C32: Vendor's Comments | D32: CBRE's Comments/Questions | E32: Vendor's Response to CBRE
B33: [Please describe Vendor’s Data Classification System and the type of data stored in this application. Also, please attach or insert a field level table listing each data field and the type of data stored in that field. For instance, please describe if there is a field that stores SSN’s, employee names, addresses, or other business data. Finally, please include the protection methodologies regarding CBRE Data during storage, transit, transmission, and methods of disposal.]
A34: 8. Diagram | C34: Vendor's Comments | D34: CBRE's Comments/Questions | E34: Vendor's Response to CBRE
B35: Attach a diagram of the hosting environment, application, and/or relevant architecture. It should include depictions of key components (routers, firewalls, servers, IDS, databases, etc…), ports and protocols, and relevant public IP addresses. Please also include the whether or not any portion of Network Security is managed externally; and, if so, how is Vendor alerted/notified of any abnormalities.

Sheet All
A1: Please Explain All "No" and "NA" Responses in the Comments Section
A2: Organizational Security | C2: Response | D2: Vendor's Comments | E2: CBRE's Comments/Questions | F2: Vendor's Response to CBRE | G2: Risk Score
A3: 1 | B3: Vendor has in place appropriate segregation of duties controls, so as to prevent one person having excessive control over the application or environment, (ie, developers do not have access to implement code in production environments and one person cannot request, approve and implement a change to the environment). | G3: =IF(C3="Yes",1,IF(C3="No",3,IF(C3="N/A",2))) -> FALSE
A4: 2 | B4: A work order system is used to track and address systems issues. | G4: =IF(C4="Yes",1,IF(C4="No",3,IF(C4="N/A",2))) -> FALSE | H4: Yes
A5: 3 | B5: Granting of emergency IDs are documented, approved, and terminated when no longer needed. | G5: =IF(C5="Yes",1,IF(C5="No",3,IF(C5="N/A",2))) -> FALSE | H5: No
A6: 4 | B6: Employees are subjected to background checks and drug screening before being hired. | G6: =IF(C6="Yes",1,IF(C6="No",3,IF(C6="N/A",2))) -> FALSE | H6: N/A
A7: 5 | B7: Employees receive security awareness training. | G7: =IF(C7="Yes",1,IF(C7="No",3,IF(C7="N/A",2))) -> FALSE
A8: 6 | B8: Test and Development environments are separate from production. | G8: =IF(C8="Yes",1,IF(C8="No",3,IF(C8="N/A",2))) -> FALSE
A9: 7 | B9: A corporate security policy exists. | G9: =IF(C9="Yes",1,IF(C9="No",3,IF(C9="N/A",2))) -> FALSE
A10: 8 | B10: Production data is not used in test or development environments. | G10: =IF(C10="Yes",1,IF(C10="No",3,IF(C10="N/A",2))) -> FALSE
A11: 9 | B11: All | G11: =IF(C11="Yes",1,IF(C11="No",3,IF(C11="N/A",2))) -> FALSE
A12: 10 | B12: Employees must agree to corporate policies as a term of their employment contract and execute confidentiality agreements. | G12: =IF(C12="Yes",1,IF(C12="No",3,IF(C12="N/A",2))) -> FALSE
A13: 11 | B13: There is a process in place to ensure compliance with software licenses across the organization. | G13: =IF(C13="Yes",1,IF(C13="No",3,IF(C13="N/A",2))) -> FALSE
A14: 12 | B14: Visitors to office locations must be identified and wear badges. | G14: =IF(C14="Yes",1,IF(C14="No",3,IF(C14="N/A",2))) -> FALSE
A15: 13 | B15: If third parties are used to provide services, a program exists to ensure security standards are in place. | G15: =IF(C15="Yes",1,IF(C15="No",3,IF(C15="N/A",2))) -> FALSE
A16: Change Control | C16: Response | D16: Vendor's Comments | E16: CBRE's Comments/Questions | F16: Vendor's Response to CBRE | G16: Risk Score
A17: 1 | B17: Formal change control procedures are documented and followed. | G17: =IF(C17="Yes",1,IF(C17="No",3,IF(C17="N/A",2))) -> FALSE
A18: 2 | B18: There is documented process for emergency changes that is followed. | G18: =IF(C18="Yes",1,IF(C18="No",3,IF(C18="N/A",2))) -> FALSE
A19: 3 | B19: The change control process includes documentation of changes. | G19: =IF(C19="Yes",1,IF(C19="No",3,IF(C19="N/A",2))) -> FALSE
A20: 4 | B20: The change control process includes testing, notification, back out plans, and approvals according to type and change and risk/impact of change. | G20: =IF(C20="Yes",1,IF(C20="No",3,IF(C20="N/A",2))) -> FALSE
A21: 5 | B21: All changes require a segregation of duties between the requestor, approver and person implementing the change. | G21: =IF(C21="Yes",1,IF(C21="No",3,IF(C21="N/A",2))) -> FALSE
A22: Application Security | C22: Response | D22: Vendor's Comments | E22: CBRE's Comments/Questions | F22: Vendor's Response to CBRE | G22: Risk Score
A23: 1 | B23: The application is Internet available. | G23: =IF(C23="Yes",1,IF(C23="No",3,IF(C23="N/A",2))) -> FALSE
A24: 2 | B24: Application has been subjected to a 3rd party penetration test. | G24: =IF(C24="Yes",1,IF(C24="No",3,IF(C24="N/A",2))) -> FALSE
A25: 3 | B25: Application has been subjected to a 3rd party audit (SSAE 16, Risk assessment, etc…) | G25: =IF(C25="Yes",1,IF(C25="No",3,IF(C25="N/A",2))) -> FALSE
A26: 4 | B26: Results of 3rd party testing or audits will be provided if requested. | G26: =IF(C26="Yes",1,IF(C26="No",3,IF(C26="N/A",2))) -> FALSE
A27: 5 | B27: Application is not vulnerable to buffer overflow, URL manipulations, or other common attacks. | G27: =IF(C27="Yes",1,IF(C27="No",3,IF(C27="N/A",2))) -> FALSE
A28: 6 | B28: Application development includes an internal security review process. This review process includes Threat modeling, code review, and peer reviews. | G28: =IF(C28="Yes",1,IF(C28="No",3,IF(C28="N/A",2))) -> FALSE
A29: 7 | B29: Developers are trained on secure development techniques at least annually. | G29: =IF(C29="Yes",1,IF(C29="No",3,IF(C29="N/A",2))) -> FALSE
A30: 8 | B30: Application only includes software that is properly licensed. | G30: =IF(C30="Yes",1,IF(C30="No",3,IF(C30="N/A",2))) -> FALSE
A31: 9 | B31: Application uses role based security. | G31: =IF(C31="Yes",1,IF(C31="No",3,IF(C31="N/A",2))) -> FALSE
A32: 10 | B32: Application has security logs that are monitored. | G32: =IF(C32="Yes",1,IF(C32="No",3,IF(C32="N/A",2))) -> FALSE
A33: 11 | B33: Application security logs include application changes, login/logout, and lockouts. | G33: =IF(C33="Yes",1,IF(C33="No",3,IF(C33="N/A",2))) -> FALSE
A34: 12 | B34: Application can be integrated with Single Sign On or Federated login products. | G34: =IF(C34="Yes",1,IF(C34="No",3,IF(C34="N/A",2))) -> FALSE
... A47: 25 | B47: Do any accounts have system-wide privileges for the entire application? | G47: =IF(C47="Yes",1,IF(C47="No",3,IF(C47="N/A",2))) -> FALSE
A48: Systems Security | C48: Response | D48: Vendor's Comments | E48: CBRE's Comments/Questions | F48: Vendor's Response to CBRE | G48: Risk Score
A49: 1 | B49: All applicable computer ports are disabled (ie USB and Disk Drives) to prevent the downloading of CBRE data. | G49: =IF(C49="Yes",1,IF(C49="No",3,IF(C49="N/A",2))) -> FALSE
A50: 2 | B50: If disabling of ports is not in place, is logging or a DLP application active to determine and alert if CBRE data has been downloaded? | G50: =IF(C50="Yes",1,IF(C50="No",3,IF(C50="N/A",2))) -> FALSE
A51: 3 | B51: Administrator/root access is only granted to authorized personnel. | G51: =IF(C51="Yes",1,IF(C51="No",3,IF(C51="N/A",2))) -> FALSE
A52: 4 | B52: Administrator/root access is periodically reviewed and changed if needed. | G52: =IF(C52="Yes",1,IF(C52="No",3,IF(C52="N/A",2))) -> FALSE
A53: 5 | B53: Systems are regularly patched for known vulnerabilities. | G53: =IF(C53="Yes",1,IF(C53="No",3,IF(C53="N/A",2))) -> FALSE
A54: 6 | B54: Systems are hardened as appropriate. | G54: =IF(C54="Yes",1,IF(C54="No",3,IF(C54="N/A",2))) -> FALSE
A55: 7 | B55: 3rd party patches (adobe, java, flash, etc..) are included in the patch process. | G55: =IF(C55="Yes",1,IF(C55="No",3,IF(C55="N/A",2))) -> FALSE
A56: 8 | B56: Systems are regularly scanned for vulnerabilities. | G56: =IF(C56="Yes",1,IF(C56="No",3,IF(C56="N/A",2))) -> FALSE
A57: 9 | B57: Systems use screen locking technology or auto logoff. | G57: =IF(C57="Yes",1,IF(C57="No",3,IF(C57="N/A",2))) -> FALSE
A58: 10 | B58: Access is disabled promptly upon employee termination. | G58: =IF(C58="Yes",1,IF(C58="No",3,IF(C58="N/A",2))) -> FALSE
A59: 11 | B59: Email gateways support TLS. | G59: =IF(C59="Yes",1,IF(C59="No",3,IF(C59="N/A",2))) -> FALSE
A60: 12 | B60: Systems are periodically scanned or audited for compliance (patches, settings, etc…) | G60: =IF(C60="Yes",1,IF(C60="No",3,IF(C60="N/A",2))) -> FALSE
... A66: 18 | B66: Does the virtualized image, if in use, contain any authentication credentials? | G66: =IF(C66="Yes",1,IF(C66="No",3,IF(C66="N/A",2))) -> FALSE
A67: Virus Protection (AV) | C67: Response | D67: Vendor's Comments | E67: CBRE's Comments/Questions | F67: Vendor's Response to CBRE | G67: Risk Score
A68: 1 | B68: Operating system and email Antivirus software is used, monitored, and updated. This includes workstations and servers. | G68: =IF(C68="Yes",1,IF(C68="No",3,IF(C68="N/A",2))) -> FALSE
A69: 2 | B69: Antivirus response procedures are documented and in use. | G69: =IF(C69="Yes",1,IF(C69="No",3,IF(C69="N/A",2))) -> FALSE
A70: 3 | B70: Real-time virus scanning is used. | G70: =IF(C70="Yes",1,IF(C70="No",3,IF(C70="N/A",2))) -> FALSE
A71: 4 | B71: Virus signatures/definitions are automatically updated and monitored to ensure they are current. | G71: =IF(C71="Yes",1,IF(C71="No",3,IF(C71="N/A",2))) -> FALSE
A72: 5 | B72: The Antivirus system is managed and monitored centrally. | G72: =IF(C72="Yes",1,IF(C72="No",3,IF(C72="N/A",2))) -> FALSE
A73: Network Security | C73: Response | D73: Vendor's Comments | E73: CBRE's Comments/Questions | F73: Vendor's Response to CBRE | G73: Risk Score
A74: 1 | B74: IDS systems are in place and monitored. | G74: =IF(C74="Yes",1,IF(C74="No",3,IF(C74="N/A",2))) -> FALSE
A75: 2 | B75: Network IDS is used. | G75: =IF(C75="Yes",1,IF(C75="No",3,IF(C75="N/A",2))) -> FALSE
B76: Network IPS is used. | G76: =IF(C76="Yes",1,IF(C76="No",3,IF(C76="N/A",2))) -> FALSE
A77: 3 | B77: Host IDS is used. | G77: =IF(C77="Yes",1,IF(C77="No",3,IF(C77="N/A",2))) -> FALSE
A78: 4 | B78: Router and switch security standards and policies are in place and followed. | G78: =IF(C78="Yes",1,IF(C78="No",3,IF(C78="N/A",2))) -> FALSE
A79: 5 | B79: Router and switch operating systems are updated periodically to address vulnerabilities. | G79: =IF(C79="Yes",1,IF(C79="No",3,IF(C79="N/A",2))) -> FALSE
A80: 6 | B80: A network security policy is in place. | G80: =IF(C80="Yes",1,IF(C80="No",3,IF(C80="N/A",2))) -> FALSE
A81: 7 | B81: If wireless networks are used, appropriate security measures are in place to prevent unauthorized access. | G81: =IF(C81="Yes",1,IF(C81="No",3,IF(C81="N/A",2))) -> FALSE
A82: 8 | B82: Are controls in place to mitigate DDoS (distributed denial–of-service) attacks | G82: =IF(C82="Yes",1,IF(C82="No",3,IF(C82="N/A",2))) -> FALSE
A83: 9 | B83: Are defenses in place against internal as well as external threats? | G83: =IF(C83="Yes",1,IF(C83="No",3,IF(C83="N/A",2))) -> FALSE
A84: 10 | B84: Does the architecture support continuous operation? | G84: =IF(C84="Yes",1,IF(C84="No",3,IF(C84="N/A",2))) -> FALSE
A85: 11 | B85: Is the network infrastructure secured to best practice specific standards (e.g., are MAC spoofing, ARP poisoning attacks, etc, prevented) | G85: =IF(C85="Yes",1,IF(C85="No",3,IF(C85="N/A",2))) -> FALSE
A86: Firewall Configuration | C86: Response | D86: Vendor's Comments | E86: CBRE's Comments/Questions | F86: Vendor's Response to CBRE | G86: Risk Score
A87: 12 | B87: Firewall logging is enabled and logs are gathered and reviewed as appropriate. | G87: =IF(C87="Yes",1,IF(C87="No",3,IF(C87="N/A",2))) -> FALSE
A88: 13 | B88: Firewall rules and configuration changes require prior approval. | G88: =IF(C88="Yes",1,IF(C88="No",3,IF(C88="N/A",2))) -> FALSE
A89: 14 | B89: Firewall management is performed over encrypted connections and has a secure password. | G89: =IF(C89="Yes",1,IF(C89="No",3,IF(C89="N/A",2))) -> FALSE
A90: 15 | B90: Firewall has been hardened to reduce the risk of compromise. | G90: =IF(C90="Yes",1,IF(C90="No",3,IF(C90="N/A",2))) -> FALSE
A91: 16 | B91: Firewall is configured to allow only required traffic to pass. | G91: =IF(C91="Yes",1,IF(C91="No",3,IF(C91="N/A",2))) -> FALSE
A92: 17 | B92: Firewall DMZ segments are used. | G92: =IF(C92="Yes",1,IF(C92="No",3,IF(C92="N/A",2))) -> FALSE
A93: Remote Administration | C93: Response | D93: Vendor's Comments | E93: CBRE's Comments/Questions | F93: Vendor's Response to CBRE | G93: Risk Score
A94: 1 | B94: Remote access (not on corporate network) for systems administration requires and uses encrypted connections. | G94: =IF(C94="Yes",1,IF(C94="No",3,IF(C94="N/A",2))) -> FALSE
A95: 2 | B95: Two-factor authentication is utilized for remote connections | G95: =IF(C95="Yes",1,IF(C95="No",3,IF(C95="N/A",2))) -> FALSE
A96: 3 | B96: Unauthorized access warnings are used prior to login. | G96: =IF(C96="Yes",1,IF(C96="No",3,IF(C96="N/A",2))) -> FALSE
A97: 4 | B97: Remote users must use antivirus and firewalls. | G97: =IF(C97="Yes",1,IF(C97="No",3,IF(C97="N/A",2))) -> FALSE
A98: 5 | B98: Accounts used for remote access are logged, have lockouts, and required approval to obtain. | G98: =IF(C98="Yes",1,IF(C98="No",3,IF(C98="N/A",2))) -> FALSE
A99: 6 | B99: A remote access policy is in place and enforced. | G99: =IF(C99="Yes",1,IF(C99="No",3,IF(C99="N/A",2))) -> FALSE
A100: 7 | B100: Systems are not exposed directly to the internet for remote administration. A VPN or similar solution is required. | G100: =IF(C100="Yes",1,IF(C100="No",3,IF(C100="N/A",2))) -> FALSE
A101: Data Center Access and Environment | C101: Response | D101: Vendor's Comments | E101: CBRE's Comments/Questions | F101: Vendor's Response to CBRE | G101: Risk Score
A102: 1 | B102: Grounds are routinely patrolled by security and/or maintenance personnel. | G102: =IF(C102="Yes",1,IF(C102="No",3,IF(C102="N/A",2))) -> FALSE
A103: 2 | B103: Access to the Datacenter and Vendor facility requires physical key or key card/fob. | G103: =IF(C103="Yes",1,IF(C103="No",3,IF(C103="N/A",2))) -> FALSE
A104: 3 | B104: Datacenter access requires two-factor authentication. | G104: =IF(C104="Yes",1,IF(C104="No",3,IF(C104="N/A",2))) -> FALSE
A105: 4 | B105: Entry points are monitored by a person. | G105: =IF(C105="Yes",1,IF(C105="No",3,IF(C105="N/A",2))) -> FALSE
A106: 5 | B106: All People are required to sign-in/out when entering and leaving facility. | G106: =IF(C106="Yes",1,IF(C106="No",3,IF(C106="N/A",2))) -> FALSE
A107: 6 | B107: All access is logged. | G107: =IF(C107="Yes",1,IF(C107="No",3,IF(C107="N/A",2))) -> FALSE
A108: 7 | B108: Visitors must be escorted at all times. | G108: =IF(C108="Yes",1,IF(C108="No",3,IF(C108="N/A",2))) -> FALSE
A109: 8 | B109: Picture ID Badges are used for all people. | G109: =IF(C109="Yes",1,IF(C109="No",3,IF(C109="N/A",2))) -> FALSE
A110: 9 | B110: Server cabinet(s) or cage(s) is/are locked. | G110: =IF(C110="Yes",1,IF(C110="No",3,IF(C110="N/A",2))) -> FALSE
A111: 10 | B111: Only staff with an appropriate need is granted access. | G111: =IF(C111="Yes",1,IF(C111="No",3,IF(C111="N/A",2))) -> FALSE
A112: 11 | B112: Staff access is periodically reviewed or recertified. | G112: =IF(C112="Yes",1,IF(C112="No",3,IF(C112="N/A",2))) -> FALSE
A113: 12 | B113: Access logs are available as needed. | G113: =IF(C113="Yes",1,IF(C113="No",3,IF(C113="N/A",2))) -> FALSE
... A122: 21 | B122: There is appropriate redundancy in the cooling and power systems. | G122: =IF(C122="Yes",1,IF(C122="No",3,IF(C122="N/A",2))) -> FALSE
A123: Disaster Recovery (DR) and Business Continuity Plans (BCP) | C123: Response | D123: Vendor's Comments | E123: CBRE's Comments/Questions | F123: Vendor's Response to CBRE | G123: Risk Score
A124: 1 | B124: DR and BCP plans are established and periodically reviewed and updated. | G124: =IF(C124="Yes",1,IF(C124="No",3,IF(C124="N/A",2))) -> FALSE
A125: 2 | B125: DR and BCP plans are periodically tested. | G125: =IF(C125="Yes",1,IF(C125="No",3,IF(C125="N/A",2))) -> FALSE
...

Sheet Org Security - Change Control
A1: Please Explain All "No" and "NA" Responses in the Comments Section
A2: Organizational Security | C2: Response | D2: Vendor's Comments | E2: CBRE's Comments/Questions | F2: Vendor's Response to CBRE | G2: Risk Score
A3: 1 | B3: Vendor has in place appropriate segregation of duties controls, so as to prevent one person having excessive control over the application or environment, (ie, developers do not have access to implement code in production environments and one person cannot request, approve and implement a change to the environment). | G3: =IF(C3="Yes",1,IF(C3="No",3,IF(C3="N/A",2))) -> FALSE
A4: 2 | B4: A work order system is used to track and address systems issues. | G4: =IF(C4="Yes",1,IF(C4="No",3,IF(C4="N/A",2))) -> FALSE | H4: Yes
A5: 3 | B5: Granting of emergency IDs are documented, approved, and terminated when no longer needed. | G5: =IF(C5="Yes",1,IF(C5="No",3,IF(C5="N/A",2))) -> FALSE | H5: No
A6: 4 | B6: Employees are subjected to background checks and drug screening before being hired. | G6: =IF(C6="Yes",1,IF(C6="No",3,IF(C6="N/A",2))) -> FALSE | H6: N/A
A7: 5 | B7: Employees receive security awareness training. | G7: =IF(C7="Yes",1,IF(C7="No",3,IF(C7="N/A",2))) -> FALSE
A8: 6 | B8: Test and Development environments are separate from production. | G8: =IF(C8="Yes",1,IF(C8="No",3,IF(C8="N/A",2))) -> FALSE
A9: 7 | B9: A corporate security policy exists. | G9: =IF(C9="Yes",1,IF(C9="No",3,IF(C9="N/A",2))) -> FALSE
A10: 8 | B10: Production data is not used in test or development environments. | G10: =IF(C10="Yes",1,IF(C10="No",3,IF(C10="N/A",2))) -> FALSE
A11: 9 | B11: There is a dedicated person or team focused on IT Security. | G11: =IF(C11="Yes",1,IF(C11="No",3,IF(C11="N/A",2))) -> FALSE
A12: 10 | B12: Employees must agree to corporate policies as a term of their employment contract and execute confidentiality agreements. | G12: =IF(C12="Yes",1,IF(C12="No",3,IF(C12="N/A",2))) -> FALSE
A13: 11 | B13: There is a process in place to ensure compliance with software licenses across the organization. | G13: =IF(C13="Yes",1,IF(C13="No",3,IF(C13="N/A",2))) -> FALSE
A14: 12 | B14: Visitors to office locations must be identified and wear badges. | G14: =IF(C14="Yes",1,IF(C14="No",3,IF(C14="N/A",2))) -> FALSE
A15: 13 | B15: If third parties are used to provide services, a program exists to ensure security standards are in place. | G15: =IF(C15="Yes",1,IF(C15="No",3,IF(C15="N/A",2))) -> FALSE
A16: Change Control | C16: Response | D16: Vendor's Comments | E16: CBRE's Comments/Questions | F16: Vendor's Response to CBRE | G16: Risk Score
A17: 1 | B17: Formal change control procedures are documented and followed. | G17: =IF(C17="Yes",1,IF(C17="No",3,IF(C17="N/A",2))) -> FALSE
A18: 2 | B18: There is documented process for emergency changes that is followed. | G18: =IF(C18="Yes",1,IF(C18="No",3,IF(C18="N/A",2))) -> FALSE
A19: 3 | B19: The change control process includes documentation of changes. | G19: =IF(C19="Yes",1,IF(C19="No",3,IF(C19="N/A",2))) -> FALSE
A20: 4 | B20: The change control process includes testing, notification, back out plans, and approvals according to type and change and risk/impact of change. | G20: =IF(C20="Yes",1,IF(C20="No",3,IF(C20="N/A",2))) -> FALSE
A21: 5 | B21: All changes require a segregation of duties between the requestor, approver and person implementing the change. | G21: =IF(C21="Yes",1,IF(C21="No",3,IF(C21="N/A",2))) -> FALSE

Sheet App Security
A1: Please Explain All "No" and "NA" Responses in the Comments Section
A2: Application Security | C2: Response | D2: Vendor's Comments | E2: CBRE's Comments/Questions | F2: Vendor's Response to CBRE | G2: Risk Score
A3: 1 | B3: The application is Internet available. | G3: =IF(C3="Yes",1,IF(C3="No",3,IF(C3="N/A",2))) -> FALSE
A4: 2 | B4: Application has been subjected to a 3rd party penetration test. | G4: =IF(C4="Yes",1,IF(C4="No",3,IF(C4="N/A",2))) -> FALSE | H4: Yes
A5: 3 | B5: Application has been subjected to a 3rd party audit (SSAE 16, Risk assessment, etc…) | G5: =IF(C5="Yes",1,IF(C5="No",3,IF(C5="N/A",2))) -> FALSE | H5: No
A6: 4 | B6: Results of 3rd party testing or audits will be provided if requested. | G6: =IF(C6="Yes",1,IF(C6="No",3,IF(C6="N/A",2))) -> FALSE | H6: N/A
A7: 5 | B7: Application is not vulnerable to buffer overflow, URL manipulations, or other common attacks. | G7: =IF(C7="Yes",1,IF(C7="No",3,IF(C7="N/A",2))) -> FALSE
A8: 6 | B8: Application development includes an internal security review process. This review process includes Threat modeling, code review, and peer reviews. | G8: =IF(C8="Yes",1,IF(C8="No",3,IF(C8="N/A",2))) -> FALSE
A9: 7 | B9: Developers are trained on secure development techniques at least annually. | G9: =IF(C9="Yes",1,IF(C9="No",3,IF(C9="N/A",2))) -> FALSE
A10: 8 | B10: Application only includes software that is properly licensed. | G10: =IF(C10="Yes",1,IF(C10="No",3,IF(C10="N/A",2))) -> FALSE
A11: 9 | B11: Application uses role based security. | G11: =IF(C11="Yes",1,IF(C11="No",3,IF(C11="N/A",2))) -> FALSE
A12: 10 | B12: Application has security logs that are monitored. | G12: =IF(C12="Yes",1,IF(C12="No",3,IF(C12="N/A",2))) -> FALSE
A13: 11 | B13: Application security logs include application changes, login/logout, and lockouts. | G13: =IF(C13="Yes",1,IF(C13="No",3,IF(C13="N/A",2))) -> FALSE
A14: 12 | B14: Application can be integrated with Single Sign On or Federated login products. | G14: =IF(C14="Yes",1,IF(C14="No",3,IF(C14="N/A",2))) -> FALSE
A15: 13 | B15: Application supports and enforces complex passwords (Min 8 characters, numbers, case, can’t contain username, and special characters) | G15: =IF(C15="Yes",1,IF(C15="No",3,IF(C15="N/A",2))) -> FALSE
A16: 14 | B16: Passwords can be set to expire periodically and allow users to change them. | G16: =IF(C16="Yes",1,IF(C16="No",3,IF(C16="N/A",2))) -> FALSE
A17: 15 | B17: Passwords are stored and transmitted encrypted. | G17: =IF(C17="Yes",1,IF(C17="No",3,IF(C17="N/A",2))) -> FALSE
A18: 16 | B18: Password expiration can be set per account or per role. | G18: =IF(C18="Yes",1,IF(C18="No",3,IF(C18="N/A",2))) -> FALSE
... A27: 25 | B27: Do any accounts have system-wide privileges for the entire application? | G27: =IF(C27="Yes",1,IF(C27="No",3,IF(C27="N/A",2))) -> FALSE

Sheet System & Network Security
A1: Please Explain All "No" and "NA" Responses in the Comments Section
A2: Systems Security | C2: Response | D2: Vendor's Comments | E2: CBRE's Comments/Questions | F2: Vendor's Response to CBRE | G2: Risk Score
A3: 1 | B3: All applicable computer ports are disabled (ie USB and Disk Drives) to prevent the downloading of CBRE data. | G3: =IF(C3="Yes",0,IF(C3="No",2,IF(C3="N/A",1))) -> FALSE
A4: 2 | B4: If disabling of ports is not in place, is logging or a DLP application active to determine and alert if CBRE data has been downloaded? | G4: =IF(C4="Yes",0,IF(C4="No",2,IF(C4="N/A",1))) -> FALSE | H4: Yes
A5: 3 | B5: Administrator/root access is only granted to authorized personnel. | G5: =IF(C5="Yes",0,IF(C5="No",2,IF(C5="N/A",1))) -> FALSE | H5: No
A6: 4 | B6: Administrator/root access is periodically reviewed and changed if needed. | G6: =IF(C6="Yes",0,IF(C6="No",2,IF(C6="N/A",1))) -> FALSE | H6: N/A
A7: 5 | B7: Systems are regularly patched for known vulnerabilities. | G7: =IF(C7="Yes",0,IF(C7="No",2,IF(C7="N/A",1))) -> FALSE
A8: 6 | B8: Systems are hardened as appropriate. | G8: =IF(C8="Yes",0,IF(C8="No",2,IF(C8="N/A",1))) -> FALSE
A9: 7 | B9: 3rd party patches (adobe, java, flash, etc..) are included in the patch process. | G9: =IF(C9="Yes",0,IF(C9="No",2,IF(C9="N/A",1))) -> FALSE
A10: 8 | B10: Systems are regularly scanned for vulnerabilities. | G10: =IF(C10="Yes",0,IF(C10="No",2,IF(C10="N/A",1))) -> FALSE
A11: 9 | B11: Systems use screen locking technology or auto logoff. | G11: =IF(C11="Yes",0,IF(C11="No",2,IF(C11="N/A",1))) -> FALSE
A12: 10 | B12: Access is disabled promptly upon employee termination. | G12: =IF(C12="Yes",0,IF(C12="No",2,IF(C12="N/A",1))) -> FALSE
A13: 11 | B13: Email gateways support TLS. | G13: =IF(C13="Yes",1,IF(C13="No",3,IF(C13="N/A",2))) -> FALSE
A14: 12 | B14: Systems are periodically scanned or audited for compliance (patches, settings, etc…) | G14: =IF(C14="Yes",1,IF(C14="No",3,IF(C14="N/A",2))) -> FALSE
A15: 13 | B15: Non-IT employees are not allowed or able to install software on their systems. | G15: =IF(C15="Yes",1,IF(C15="No",3,IF(C15="N/A",2))) -> FALSE
A16: 14 | B16: Are there limitations on the use of system utilities? | G16: =IF(C16="Yes",1,IF(C16="No",3,IF(C16="N/A",2))) -> FALSE
A17: 15 | B17: Is the use of system utilities monitored? | G17: =IF(C17="Yes",1,IF(C17="No",3,IF(C17="N/A",2))) -> FALSE
A18: 16 | B18: Are virtual images, if in use, hardened by default? | G18: =IF(C18="Yes",1,IF(C18="No",3,IF(C18="N/A",2))) -> FALSE
A19: 17 | B19: Is the hardened virtual image protected from unauthorized access? | G19: =IF(C19="Yes",1,IF(C19="No",3,IF(C19="N/A",2))) -> FALSE
A20: 18 | B20: Does the virtualized image, if in use, contain any authentication credentials? | G20: =IF(C20="Yes",1,IF(C20="No",3,IF(C20="N/A",2))) -> FALSE
A21: Virus Protection (AV) | C21: Response | D21: Vendor's Comments | E21: CBRE's Comments/Questions | F21: Vendor's Response to CBRE | G21: Risk Score
A22: 1 | B22: Operating system and email Antivirus software is used, monitored, and updated. This includes workstations and servers. | G22: =IF(C22="Yes",1,IF(C22="No",3,IF(C22="N/A",2))) -> FALSE
A23: 2 | B23: Antivirus response procedures are documented and in use. | G23: =IF(C23="Yes",1,IF(C23="No",3,IF(C23="N/A",2))) -> FALSE
A24: 3 | B24: Real-time virus scanning is used. | G24: =IF(C24="Yes",1,IF(C24="No",3,IF(C24="N/A",2))) -> FALSE
A25: 4 | B25: Virus signatures/definitions are automatically updated and monitored to ensure they are current. | G25: =IF(C25="Yes",1,IF(C25="No",3,IF(C25="N/A",2))) -> FALSE
A26: 5 | B26: The Antivirus system is managed and monitored centrally. | G26: =IF(C26="Yes",1,IF(C26="No",3,IF(C26="N/A",2))) -> FALSE
A27: Network Security | C27: Response | D27: Vendor's Comments | E27: CBRE's Comments/Questions | F27: Vendor's Response to CBRE | G27: Risk Score
A28: 1 | B28: IDS systems are in place and monitored. | G28: =IF(C28="Yes",1,IF(C28="No",3,IF(C28="N/A",2))) -> FALSE
A29: 2 | B29: Network IDS is used. | G29: =IF(C29="Yes",1,IF(C29="No",3,IF(C29="N/A",2))) -> FALSE
B30: Network IPS is used. | G30: =IF(C30="Yes",1,IF(C30="No",3,IF(C30="N/A",2))) -> FALSE
A31: 3 | B31: Host IDS is used. | G31: =IF(C31="Yes",1,IF(C31="No",3,IF(C31="N/A",2))) -> FALSE
A32: 4 | B32: Router and switch security standards and policies are in place and followed. | G32: =IF(C32="Yes",1,IF(C32="No",3,IF(C32="N/A",2))) -> FALSE
A33: 5 | B33: Router and switch operating systems are updated periodically to address vulnerabilities. | G33: =IF(C33="Yes",1,IF(C33="No",3,IF(C33="N/A",2))) -> FALSE
A34: 6 | B34: A network security policy is in place. | G34: =IF(C34="Yes",1,IF(C34="No",3,IF(C34="N/A",2))) -> FALSE
A35: 7 | B35: If wireless networks are used, appropriate security measures are in place to prevent unauthorized access. | G35: =IF(C35="Yes",1,IF(C35="No",3,IF(C35="N/A",2))) -> FALSE
A36: 8 | B36: Are controls in place to mitigate DDoS (distributed denial–of-service) attacks | G36: =IF(C36="Yes",1,IF(C36="No",3,IF(C36="N/A",2))) -> FALSE
A37: 9 | B37: Are defenses in place against internal as well as external threats? | G37: =IF(C37="Yes",1,IF(C37="No",3,IF(C37="N/A",2))) -> FALSE
A38: 10 | B38: Does the architecture support continuous operation? | G38: =IF(C38="Yes",1,IF(C38="No",3,IF(C38="N/A",2))) -> FALSE
A39: 11 | B39: Is the network infrastructure secured to best practice specific standards (e.g., are MAC spoofing, ARP poisoning attacks, etc, prevented) | G39: =IF(C39="Yes",1,IF(C39="No",3,IF(C39="N/A",2))) -> FALSE
A40: Firewall Configuration | C40: Response | D40: Vendor's Comments | E40: CBRE's Comments/Questions | F40: Vendor's Response to CBRE | G40: Risk Score
A41: 12 | B41: Firewall logging is enabled and logs are gathered and reviewed as appropriate. | G41: =IF(C41="Yes",1,IF(C41="No",3,IF(C41="N/A",2))) -> FALSE
A42: 13 | B42: Firewall rules and configuration changes require prior approval. | G42: =IF(C42="Yes",1,IF(C42="No",3,IF(C42="N/A",2))) -> FALSE
A43: 14 | B43: Firewall management is performed over encrypted connections and has a secure password. | G43: =IF(C43="Yes",1,IF(C43="No",3,IF(C43="N/A",2))) -> FALSE
A44: 15 | B44: Firewall has been hardened to reduce the risk of compromise. | G44: =IF(C44="Yes",1,IF(C44="No",3,IF(C44="N/A",2))) -> FALSE
A45: 16 | B45: Firewall is configured to allow only required traffic to pass. | G45: =IF(C45="Yes",1,IF(C45="No",3,IF(C45="N/A",2))) -> FALSE
A46: 17 | B46: Firewall DMZ segments are used. | G46: =IF(C46="Yes",1,IF(C46="No",3,IF(C46="N/A",2))) -> FALSE
A47: Remote Administration | C47: Response | D47: Vendor's Comments | E47: CBRE's Comments/Questions | F47: Vendor's Response to CBRE | G47: Risk Score
A48: 1 | B48: Remote access (not on corporate network) for systems administration requires and uses encrypted connections. | G48: =IF(C48="Yes",1,IF(C48="No",3,IF(C48="N/A",2))) -> FALSE
A49: 2 | B49: Two-factor authentication is utilized for remote connections | G49: =IF(C49="Yes",1,IF(C49="No",3,IF(C49="N/A",2))) -> FALSE
A50: 3 | B50: Unauthorized access warnings are used prior to login. | G50: =IF(C50="Yes",1,IF(C50="No",3,IF(C50="N/A",2))) -> FALSE
A51: 4 | B51: Remote users must use antivirus and firewalls. | G51: =IF(C51="Yes",1,IF(C51="No",3,IF(C51="N/A",2))) -> FALSE
A52: 5 | B52: Accounts used for remote access are logged, have lockouts, and required approval to obtain. | G52: =IF(C52="Yes",1,IF(C52="No",3,IF(C52="N/A",2))) -> FALSE
A53: 6 | B53: A remote access policy is in place and enforced. | G53: =IF(C53="Yes",1,IF(C53="No",3,IF(C53="N/A",2))) -> FALSE
A54: 7 | B54: Systems are not exposed directly to the internet for remote administration. A VPN or similar solution is required. | G54: =IF(C54="Yes",1,IF(C54="No",3,IF(C54="N/A",2))) -> FALSE

Sheet Data Center
A1: Please Explain All "No" and "NA" Responses in the Comments Section
A2: Data Center Access and Environment | C2: Response | D2: Vendor's Comments | E2: CBRE's Comments/Questions | F2: Vendor's Response to CBRE | G2: Risk Score
A3: 1 | B3: Grounds are routinely patrolled by security and/or maintenance personnel. | G3: =IF(C3="Yes",1,IF(C3="No",3,IF(C3="N/A",2))) -> FALSE
A4: 2 | B4: Access to the Datacenter and Vendor facility requires physical key or key card/fob. | G4: =IF(C4="Yes",1,IF(C4="No",3,IF(C4="N/A",2))) -> FALSE | H4: Yes
A5: 3 | B5: Datacenter access requires two-factor authentication. | G5: =IF(C5="Yes",1,IF(C5="No",3,IF(C5="N/A",2))) -> FALSE | H5: No
A6: 4 | B6: Entry points are monitored by a person. | G6: =IF(C6="Yes",1,IF(C6="No",3,IF(C6="N/A",2))) -> FALSE | H6: N/A
A7: 5 | B7: All People are required to sign-in/out when entering and leaving facility. | G7: =IF(C7="Yes",1,IF(C7="No",3,IF(C7="N/A",2))) -> FALSE
A8: 6 | B8: All access is logged. | G8: =IF(C8="Yes",1,IF(C8="No",3,IF(C8="N/A",2))) -> FALSE
A9: 7 | B9: Visitors must be escorted at all times. | G9: =IF(C9="Yes",1,IF(C9="No",3,IF(C9="N/A",2))) -> FALSE
A10: 8 | B10: Picture ID Badges are used for all people. | G10: =IF(C10="Yes",1,IF(C10="No",3,IF(C10="N/A",2))) -> FALSE
A11: 9 | B11: Server cabinet(s) or cage(s) is/are locked. | G11: =IF(C11="Yes",1,IF(C11="No",3,IF(C11="N/A",2))) -> FALSE
A12: 10 | B12: Only staff with an appropriate need is granted access. | G12: =IF(C12="Yes",1,IF(C12="No",3,IF(C12="N/A",2))) -> FALSE
A13: 11 | B13: Staff access is periodically reviewed or recertified. | G13: =IF(C13="Yes",1,IF(C13="No",3,IF(C13="N/A",2))) -> FALSE
A14: 12 | B14: Access logs are available as needed. | G14: =IF(C14="Yes",1,IF(C14="No",3,IF(C14="N/A",2))) -> FALSE
A15: 13 | B15: Data center provides adequate protection to prevent unauthorized access. i.e. Windows and doors can resist attack. Walls span drop ceilings and raised floors. | G15: =IF(C15="Yes",1,IF(C15="No",3,IF(C15="N/A",2))) -> FALSE
A16: 14 | B16: Fire detection and suppression systems are in place and have been tested within the last 1 year. | G16: =IF(C16="Yes",1,IF(C16="No",3,IF(C16="N/A",2))) -> FALSE
A17: 15 | B17: Fire detection and suppression systems have UPS or generator power if needed. | G17: =IF(C17="Yes",1,IF(C17="No",3,IF(C17="N/A",2))) -> FALSE
A18: 16 | B18: Hand operated extinguishers are readily available and inspected as required. | G18: =IF(C18="Yes",1,IF(C18="No",3,IF(C18="N/A",2))) -> FALSE
... A23: 21 | B23: There is appropriate redundancy in the cooling and power systems. | G23: =IF(C23="Yes",1,IF(C23="No",3,IF(C23="N/A",2))) -> FALSE

Sheet DR-BCP-Incident Mngmnt
A1: Please Explain All "No" and "NA" Responses in the Comments Section
A2: Disaster Recovery (DR) and Business Continuity Plans (BCP) | C2: Response | D2: Vendor's Comments | E2: CBRE's Comments/Questions | F2: Vendor's Response to CBRE | G2: Risk Score
A3: 1 | B3: DR and BCP plans are established and periodically reviewed and updated. | G3: =IF(C3="Yes",1,IF(C3="No",3,IF(C3="N/A",2))) -> FALSE
A4: 2 | B4: DR and BCP plans are periodically tested. | G4: =IF(C4="Yes",1,IF(C4="No",3,IF(C4="N/A",2))) -> FALSE | H4: Yes
A5: 3 | B5: Alternative work locations and/or datacenters have been identified. | G5: =IF(C5="Yes",1,IF(C5="No",3,IF(C5="N/A",2))) -> FALSE | H5: No
A6: 4 | B6: Recovery time objectives (RTO) and recovery point objectives (RPO) have been established and verified through testing. | G6: =IF(C6="Yes",1,IF(C6="No",3,IF(C6="N/A",2))) -> FALSE | H6: N/A
A7: 5 | B7: Servers are backed up nightly and tapes stored off site. | G7: =IF(C7="Yes",1,IF(C7="No",3,IF(C7="N/A",2))) -> FALSE
A8: 6 | B8: DR and BCP plans are stored off site. | G8: =IF(C8="Yes",1,IF(C8="No",3,IF(C8="N/A",2))) -> FALSE
A9: 7 | B9: Backup tapes are periodically tested. | G9: =IF(C9="Yes",1,IF(C9="No",3,IF(C9="N/A",2))) -> FALSE
A10: 8 | B10: Backup tapes are encrypted. | G10: =IF(C10="Yes",1,IF(C10="No",3,IF(C10="N/A",2))) -> FALSE
A11: 9 | B11: A backup tape retention policy and procedure is in place. | G11: =IF(C11="Yes",1,IF(C11="No",3,IF(C11="N/A",2))) -> FALSE
A12: 10 | B12: Backup tapes are securely transmitted and securely stored offsite. | G12: =IF(C12="Yes",1,IF(C12="No",3,IF(C12="N/A",2))) -> FALSE
A13: Security Incident Response | C13: Response | D13: Vendor's Comments | E13: CBRE's Comments/Questions | F13: Vendor's Response to CBRE | G13: Risk Score
A14: 1 | B14: Security incident handling procedures are documented and followed. | G14: =IF(C14="Yes",1,IF(C14="No",3,IF(C14="N/A",2))) -> FALSE
A15: 2 | B15: Customer(s) will be notified of relevant incidents. | G15: =IF(C15="Yes",1,IF(C15="No",3,IF(C15="N/A",2))) -> FALSE
A16: 3 | B16: Incident procedures include disconnecting compromised systems, ISP abuse reporting, law enforcement, and HR reporting as appropriate. | G16: =IF(C16="Yes",1,IF(C16="No",3,IF(C16="N/A",2))) -> FALSE
A17: 4 | B17: Have you experienced a breach of data in the last 2 years? | G17: =IF(C17="Yes",1,IF(C17="No",3,IF(C17="N/A",2))) -> FALSE
A18: Security Event Monitoring | C18: Response | D18: Vendor's Comments | E18: CBRE's Comments/Questions | F18: Vendor's Response to CBRE | G18: Risk Score
A19: 1 | B19: Security logs are monitored across all relevant systems; including, but not limited to: Network, Operating Systems, Applications and Databases. If not, please list where logging is active. | G19: =IF(C19="Yes",1,IF(C19="No",3,IF(C19="N/A",2))) -> FALSE
A20: 2 | B20: Personnel responsible for log analysis are adequately trained. | G20: =IF(C20="Yes",1,IF(C20="No",3,IF(C20="N/A",2))) -> FALSE
A21: 3 | B21: Failed login attempts are specifically monitored and responded to as necessary. | G21: =IF(C21="Yes",1,IF(C21="No",3,IF(C21="N/A",2))) -> FALSE
A22: 4 | B22: Changes to security profiles are logged and monitored. | G22: =IF(C22="Yes",1,IF(C22="No",3,IF(C22="N/A",2))) -> FALSE
A23: 5 | B23: Logs are maintained for adequate time to perform forensic analysis if needed. | G23: =IF(C23="Yes",1,IF(C23="No",3,IF(C23="N/A",2))) -> FALSE
A24: 6 | B24: Controls are employed to protect logs from unauthorized access or tampering. | G24: =IF(C24="Yes",1,IF(C24="No",3,IF(C24="N/A",2))) -> FALSE
A25: 7 | B25: Are the data within audit logs segmented so that they can be made available to CBRE without compromising other customers, where applicable? | G25: =IF(C25="Yes",1,IF(C25="No",3,IF(C25="N/A",2))) -> FALSE

Sheet Privacy
A1: Please Explain All "No" and "NA" Responses in the Comments Section
A2: Privacy | C2: Response | D2: Vendor's Comments | E2: CBRE's Comments/Questions | F2: Vendor's Response to CBRE | G2: Risk Score
A3: 1 | B3: The company has a documented privacy policy that details how the company will handle customer data, including personally identifiable information | G3: =IF(C3="Yes",1,IF(C3="No",3,IF(C3="N/A",2))) -> FALSE
A4: 2 | B4: The company will handle, access, store or process personal data such as Social Security Numbers, tax ID numbers, birthdates, addresses, compensation of CBRE employees, contractors, consultants or its clients, or CBRE’s clients financial or property management data. | G4: =IF(C4="Yes",1,IF(C4="No",3,IF(C4="N/A",2))) -> FALSE | H4: Yes
A5: 3 | B5: If the company is or will be handling personal data, the data will be encrypted in transit, at rest and during storage, including on backup media | G5: =IF(C5="Yes",1,IF(C5="No",3,IF(C5="N/A",2))) -> FALSE | H5: No
A6: 4 | B6: The company has a documented disciplinary process for employees that violate the privacy policy | G6: =IF(C6="Yes",1,IF(C6="No",3,IF(C6="N/A",2))) -> FALSE | H6: N/A
A7: 5 | B7: The company provides training for employees that will handle personally identifiable information | G7: =IF(C7="Yes",1,IF(C7="No",3,IF(C7="N/A",2))) -> FALSE
A8: 6 | B8: The company has subcontractors or vendors that have access or otherwise process or handle personally identifiable information | G8: =IF(C8="Yes",1,IF(C8="No",3,IF(C8="N/A",2))) -> FALSE
A9: 7 | B9: The company has policies, contracts and processes in place with their subcontractors or vendors to ensure that CBRE’s confidential information, including personally identifiable information is protected | G9: =IF(C9="Yes",1,IF(C9="No",3,IF(C9="N/A",2))) -> FALSE

Sheet Risk Rating
A1: Sum of Risk Scores | B1: Raw | C1: Average | G1: Risk Ratings | I1: Criteria
A2: Org Security - Change Control | B2: =SUM('Org Security - Change Control'!G3:G21) -> 0 | C2: =SUM(B2/18) -> 0
A3: App Security | B3: =SUM('App Security'!G3:G27) -> 0 | C3: =SUM(B3/25) -> 0 | G3: Low | H3: 1.0 - 1.5 | I3: approx 25% "No"
A4: System & Network Security | B4: =SUM('System & Network Security'!G3:G54) -> 0 | C4: =SUM(B4/48) -> 0
A5: Data Center | B5: =SUM('Data Center'!G3:G23) -> 0 | C5: =SUM(B5/21) -> 0 | G5: Medium | H5: 1.5 - 2 | I5: approx 25 - 50% "No"
A6: DR-BCP - Incident Mngmnt | B6: =SUM('DR-BCP-Incident Mngmnt'!G3:G25) -> 0 | C6: =SUM(B6/21) -> 0
A7: Privacy | B7: =SUMIF(Privacy!G3:G9,">=1") -> 0 | C7: =SUM(B7/7) -> 0 | G7: High | H7: > 2.0 | I7: approx > 50% "No"
A8: All | B8: =SUM(All!G3:G154) -> 0 | C8: =SUM(B8/140) -> 0
A9: Overall Score | B9: =SUM(B2:B8) -> 0 | C9: =SUM(C2:C8)/COUNTIF(C2:C8,">=1") -> #DIV/0!
A11: Vendor's Risk Rating | B11: =SUM(C9) -> #DIV/0! | C11: =IF(B11<1.5,"Low",IF(B11<2,"Medium",IF(B11>2,"High"))) -> #DIV/0!

Sheet Sheet2

Sheet Sheet1
